Workbook
Name OLE_LINK2: 'Karta Przebiegu Testu'!$A$2

Sheet Dane uczestników testu
A1: Lp. | B1: Nazwisko | C1: Imię | D1: Imię ojca | E1: Data urodzenia | F1: Jednostka KP/KM
A2: 1
A3: 2
A4: 3
A5: 4
A6: 5
A7: 6
A8: 7
A9: 8
A10: 9
A11: 10
A12: 11
A13: 12
... A27: 26

Sheet Karta Ratownika Medycznego
A1: Karta Ratownika Medycznego
H2: …...............................2019 r.
B3: KP/KM PSP …............................ | H3: data testu
B4: OSP pow…...............................
A6: Lp. | B6: Nazwisko | C6: Imię | D6: Data urodzenia | E6: Jednostka | F6: Uwagi do stanu zdrowia (leki,choroby) | G6: Ciśnienie krwi | H6: Podpis uczestnika | I6: Podpis Ratownika Medycznego
A7: 1 | B7: ='Dane uczestników testu'!B2 -> 0 | C7: ='Dane uczestników testu'!C2 -> 0 | D7: ='Dane uczestników testu'!E2 -> 0 | E7: ='Dane uczestników testu'!F2 -> 0
A8: 2 | B8: ='Dane uczestników testu'!B3 -> 0 | C8: ='Dane uczestników testu'!C3 -> 0 | D8: ='Dane uczestników testu'!E3 -> 0 | E8: ='Dane uczestników testu'!F3 -> 0
A9: 3 | B9: ='Dane uczestników testu'!B4 -> 0 | C9: ='Dane uczestników testu'!C4 -> 0 | D9: ='Dane uczestników testu'!E4 -> 0 | E9: ='Dane uczestników testu'!F4 -> 0
A10: 4 | B10: ='Dane uczestników testu'!B5 -> 0 | C10: ='Dane uczestników testu'!C5 -> 0 | D10: ='Dane uczestników testu'!E5 -> 0 | E10: ='Dane uczestników testu'!F5 -> 0
A11: 5 | B11: ='Dane uczestników testu'!B6 -> 0 | C11: ='Dane uczestników testu'!C6 -> 0 | D11: ='Dane uczestników testu'!E6 -> 0 | E11: ='Dane uczestników testu'!F6 -> 0
A12: 6 | B12: ='Dane uczestników testu'!B7 -> 0 | C12: ='Dane uczestników testu'!C7 -> 0 | D12: ='Dane uczestników testu'!E7 -> 0 | E12: ='Dane uczestników testu'!F7 -> 0
A13: 7 | B13: ='Dane uczestników testu'!B8 -> 0 | C13: ='Dane uczestników testu'!C8 -> 0 | D13: ='Dane uczestników testu'!E8 -> 0 | E13: ='Dane uczestników testu'!F8 -> 0
A14: 8 | B14: ='Dane uczestników testu'!B9 -> 0 | C14: ='Dane uczestników testu'!C9 -> 0 | D14: ='Dane uczestników testu'!E9 -> 0 | E14: ='Dane uczestników testu'!F9 -> 0
A15: 9 | B15: ='Dane uczestników testu'!B10 -> 0 | C15: ='Dane uczestników testu'!C10 -> 0 | D15: ='Dane uczestników testu'!E10 -> 0 | E15: ='Dane uczestników testu'!F10 -> 0
A16: 10 | B16: ='Dane uczestników testu'!B11 -> 0 | C16: ='Dane uczestników testu'!C11 -> 0 | D16: ='Dane uczestników testu'!E11 -> 0 | E16: ='Dane uczestników testu'!F11 -> 0
A17: 11 | B17: ='Dane uczestników testu'!B12 -> 0 | C17: ='Dane uczestników testu'!C12 -> 0 | D17: ='Dane uczestników testu'!E12 -> 0 | E17: ='Dane uczestników testu'!F12 -> 0
A18: 12 | B18: ='Dane uczestników testu'!B13 -> 0 | C18: ='Dane uczestników testu'!C13 -> 0 | D18: ='Dane uczestników testu'!E13 -> 0 | E18: ='Dane uczestników testu'!F13 -> 0
... A26: 20 | B26: ='Dane uczestników testu'!B21 -> 0 | C26: ='Dane uczestników testu'!C21 -> 0 | D26: ='Dane uczestników testu'!E21 -> 0 | E26: ='Dane uczestników testu'!F21 -> 0
A27: Lp. | B27: Nazwisko | C27: Imię | D27: Data urodzenia | E27: Jednostka | F27: Uwagi do stanu zdrowia (leki, choroby) | G27: Ciśnienie krwi | H27: Podpis uczestnika | I27: Podpis Ratownika Medycznego
A28: 21 | B28: ='Dane uczestników testu'!B22 -> 0 | C28: ='Dane uczestników testu'!C22 -> 0 | D28: ='Dane uczestników testu'!E22 -> 0 | E28: ='Dane uczestników testu'!F22 -> 0
A29: 22 | B29: ='Dane uczestników testu'!B23 -> 0 | C29: ='Dane uczestników testu'!C23 -> 0 | D29: ='Dane uczestników testu'!E23 -> 0 | E29: ='Dane uczestników testu'!F23 -> 0
A30: 23 | B30: ='Dane uczestników testu'!B24 -> 0 | C30: ='Dane uczestników testu'!C24 -> 0 | D30: ='Dane uczestników testu'!E24 -> 0 | E30: ='Dane uczestników testu'!F24 -> 0
A31: 24 | B31: ='Dane uczestników testu'!B25 -> 0 | C31: ='Dane uczestników testu'!C25 -> 0 | D31: ='Dane uczestników testu'!E25 -> 0 | E31: ='Dane uczestników testu'!F25 -> 0
A32: 25 | B32: ='Dane uczestników testu'!B26 -> 0 | C32: ='Dane uczestników testu'!C26 -> 0 | D32: ='Dane uczestników testu'!E26 -> 0 | E32: ='Dane uczestników testu'!F26 -> 0
A33: 26 | B33: ='Dane uczestników testu'!B27 -> 0 | C33: ='Dane uczestników testu'!C27 -> 0 | D33: ='Dane uczestników testu'!E27 -> 0 | E33: ='Dane uczestników testu'!F27 -> 0
A34: 27
A35: 28
A36: 29
A37: 30
A38: 31
A39: 32
A40: 33
A41: 34
A42: 35
A43: 36
A44: 37
A45: 38
... A47: 40

Sheet Karta Przebiegu Testu
A2: lp. | B2: Nazwisko | C2: Imię | D2: Data Urodzenia | E2: Podpis | F2: Przebieg ćwiczenia | J2: zaliczył/a nie zaliczyła/a próbę wysiłkową | K2: zaliczył/a nie zaliczyła/a ścieżkę treningową | L2: Ocena końcowa testu w komorze dymowej zaliczył/a/ nie zaliczył/a/
F3: ergometr taśmowy(zal./niezal) | G3: młot podciągowy (zal./niezal.) | H3: drabina bez końca (zal./niezal.) | I3: ergometr rowerowy (zal./niezal)
A4: 1 | B4: ='Dane uczestników testu'!B2 -> 0 | C4: ='Dane uczestników testu'!C2 -> 0 | D4: ='Dane uczestników testu'!E2 -> 0
A5: 2 | B5: ='Dane uczestników testu'!B3 -> 0 | C5: ='Dane uczestników testu'!C3 -> 0 | D5: ='Dane uczestników testu'!E3 -> 0
A6: 3 | B6: ='Dane uczestników testu'!B4 -> 0 | C6: ='Dane uczestników testu'!C4 -> 0 | D6: ='Dane uczestników testu'!E4 -> 0
A7: 4 | B7: ='Dane uczestników testu'!B5 -> 0 | C7: ='Dane uczestników testu'!C5 -> 0 | D7: ='Dane uczestników testu'!E5 -> 0
A8: 5 | B8: ='Dane uczestników testu'!B6 -> 0 | C8: ='Dane uczestników testu'!C6 -> 0 | D8: ='Dane uczestników testu'!E6 -> 0
A9: 6 | B9: ='Dane uczestników testu'!B7 -> 0 | C9: ='Dane uczestników testu'!C7 -> 0 | D9: ='Dane uczestników testu'!E7 -> 0
A10: 7 | B10: ='Dane uczestników testu'!B8 -> 0 | C10: ='Dane uczestników testu'!C8 -> 0 | D10: ='Dane uczestników testu'!E8 -> 0
A11: 8 | B11: ='Dane uczestników testu'!B9 -> 0 | C11: ='Dane uczestników testu'!C9 -> 0 | D11: ='Dane uczestników testu'!E9 -> 0
A12: 9 | B12: ='Dane uczestników testu'!B10 -> 0 | C12: ='Dane uczestników testu'!C10 -> 0 | D12: ='Dane uczestników testu'!E10 -> 0
A13: 10 | B13: ='Dane uczestników testu'!B11 -> 0 | C13: ='Dane uczestników testu'!C11 -> 0 | D13: ='Dane uczestników testu'!E11 -> 0
A14: 11 | B14: ='Dane uczestników testu'!B12 -> 0 | C14: ='Dane uczestników testu'!C12 -> 0 | D14: ='Dane uczestników testu'!E12 -> 0
A15: 12 | B15: ='Dane uczestników testu'!B13 -> 0 | C15: ='Dane uczestników testu'!C13 -> 0 | D15: ='Dane uczestników testu'!E13 -> 0
... A29: 26 | B29: ='Dane uczestników testu'!B27 -> 0 | C29: ='Dane uczestników testu'!C27 -> 0 | D29: ='Dane uczestników testu'!E27 -> 0

Sheet Karta Skierowania
A3: Karta | B3: Nazwisko | C3: Imię | D3: Imię ojca | E3: Data ur. | F3: Jednostka
A5: 1 | B5: ='Dane uczestników testu'!B2 -> 0 | C5: ='Dane uczestników testu'!C2 -> 0 | D5: ='Dane uczestników testu'!D2 -> 0 | E5: ='Dane uczestników testu'!E2 -> 0 | F5: ='Dane uczestników testu'!F2 -> 0
A6: 2 | B6: ='Dane uczestników testu'!B3 -> 0 | C6: ='Dane uczestników testu'!C3 -> 0 | D6: ='Dane uczestników testu'!D3 -> 0 | E6: ='Dane uczestników testu'!E3 -> 0 | F6: ='Dane uczestników testu'!F3 -> 0
A7: 3 | B7: ='Dane uczestników testu'!B4 -> 0 | C7: ='Dane uczestników testu'!C4 -> 0 | D7: ='Dane uczestników testu'!D4 -> 0 | E7: ='Dane uczestników testu'!E4 -> 0 | F7: ='Dane uczestników testu'!F4 -> 0
A8: 4 | B8: ='Dane uczestników testu'!B5 -> 0 | C8: ='Dane uczestników testu'!C5 -> 0 | D8: ='Dane uczestników testu'!D5 -> 0 | E8: ='Dane uczestników testu'!E5 -> 0 | F8: ='Dane uczestników testu'!F5 -> 0
A9: 5 | B9: ='Dane uczestników testu'!B6 -> 0 | C9: ='Dane uczestników testu'!C6 -> 0 | D9: ='Dane uczestników testu'!D6 -> 0 | E9: ='Dane uczestników testu'!E6 -> 0 | F9: ='Dane uczestników testu'!F6 -> 0
A10: 6 | B10: ='Dane uczestników testu'!B7 -> 0 | C10: ='Dane uczestników testu'!C7 -> 0 | D10: ='Dane uczestników testu'!D7 -> 0 | E10: ='Dane uczestników testu'!E7 -> 0 | F10: ='Dane uczestników testu'!F7 -> 0
A11: 7 | B11: ='Dane uczestników testu'!B8 -> 0 | C11: ='Dane uczestników testu'!C8 -> 0 | D11: ='Dane uczestników testu'!D8 -> 0 | E11: ='Dane uczestników testu'!E8 -> 0 | F11: ='Dane uczestników testu'!F8 -> 0
A12: 8 | B12: ='Dane uczestników testu'!B9 -> 0 | C12: ='Dane uczestników testu'!C9 -> 0 | D12: ='Dane uczestników testu'!D9 -> 0 | E12: ='Dane uczestników testu'!E9 -> 0 | F12: ='Dane uczestników testu'!F9 -> 0
A13: 9 | B13: ='Dane uczestników testu'!B10 -> 0 | C13: ='Dane uczestników testu'!C10 -> 0 | D13: ='Dane uczestników testu'!D10 -> 0 | E13: ='Dane uczestników testu'!E10 -> 0 | F13: ='Dane uczestników testu'!F10 -> 0
A14: 10 | B14: ='Dane uczestników testu'!B11 -> 0 | C14: ='Dane uczestników testu'!C11 -> 0 | D14: ='Dane uczestników testu'!D11 -> 0 | E14: ='Dane uczestników testu'!E11 -> 0 | F14: ='Dane uczestników testu'!F11 -> 0
A15: 11 | B15: ='Dane uczestników testu'!B12 -> 0 | C15: ='Dane uczestników testu'!C12 -> 0 | D15: ='Dane uczestników testu'!D12 -> 0 | E15: ='Dane uczestników testu'!E12 -> 0 | F15: ='Dane uczestników testu'!F12 -> 0
A16: 12 | B16: ='Dane uczestników testu'!B13 -> 0 | C16: ='Dane uczestników testu'!C13 -> 0 | D16: ='Dane uczestników testu'!D13 -> 0 | E16: ='Dane uczestników testu'!E13 -> 0 | F16: ='Dane uczestników testu'!F13 -> 0
... A30: 26 | B30: ='Dane uczestników testu'!B27 -> 0 | C30: ='Dane uczestników testu'!C27 -> 0 | D30: ='Dane uczestników testu'!D27 -> 0 | E30: ='Dane uczestników testu'!E27 -> 0 | F30: ='Dane uczestników testu'!F27 -> 0

Sheet Zaświadczenie całość
A3: Karta | B3: Nazwisko | C3: Imię | D3: Imię ojca | E3: Data ur. | F3: Jednostka | G3: ZALICZYŁ(A)/NIE ZALICZYŁ(A)
A5: 1 | B5: ='Dane uczestników testu'!B2 -> 0 | C5: ='Dane uczestników testu'!C2 -> 0 | D5: ='Dane uczestników testu'!D2 -> 0 | E5: ='Dane uczestników testu'!E2 -> 0 | F5: ='Dane uczestników testu'!F2 -> 0
A6: 2 | B6: ='Dane uczestników testu'!B2 -> 0 | C6: ='Dane uczestników testu'!C2 -> 0 | D6: ='Dane uczestników testu'!D2 -> 0 | E6: ='Dane uczestników testu'!E2 -> 0 | F6: ='Dane uczestników testu'!F2 -> 0
A7: 3 | B7: ='Dane uczestników testu'!B3 -> 0 | C7: ='Dane uczestników testu'!C3 -> 0 | D7: ='Dane uczestników testu'!D3 -> 0 | E7: ='Dane uczestników testu'!E3 -> 0 | F7: ='Dane uczestników testu'!F3 -> 0
A8: 4 | B8: ='Dane uczestników testu'!B4 -> 0 | C8: ='Dane uczestników testu'!C4 -> 0 | D8: ='Dane uczestników testu'!D4 -> 0 | E8: ='Dane uczestników testu'!E4 -> 0 | F8: ='Dane uczestników testu'!F4 -> 0
A9: 5 | B9: ='Dane uczestników testu'!B5 -> 0 | C9: ='Dane uczestników testu'!C5 -> 0 | D9: ='Dane uczestników testu'!D5 -> 0 | E9: ='Dane uczestników testu'!E5 -> 0 | F9: ='Dane uczestników testu'!F5 -> 0
A10: 6 | B10: ='Dane uczestników testu'!B6 -> 0 | C10: ='Dane uczestników testu'!C6 -> 0 | D10: ='Dane uczestników testu'!D6 -> 0 | E10: ='Dane uczestników testu'!E6 -> 0 | F10: ='Dane uczestników testu'!F6 -> 0
A11: 7 | B11: ='Dane uczestników testu'!B7 -> 0 | C11: ='Dane uczestników testu'!C7 -> 0 | D11: ='Dane uczestników testu'!D7 -> 0 | E11: ='Dane uczestników testu'!E7 -> 0 | F11: ='Dane uczestników testu'!F7 -> 0
A12: 8 | B12: ='Dane uczestników testu'!B8 -> 0 | C12: ='Dane uczestników testu'!C8 -> 0 | D12: ='Dane uczestników testu'!D8 -> 0 | E12: ='Dane uczestników testu'!E8 -> 0 | F12: ='Dane uczestników testu'!F8 -> 0
A13: 9 | B13: ='Dane uczestników testu'!B9 -> 0 | C13: ='Dane uczestników testu'!C9 -> 0 | D13: ='Dane uczestników testu'!D9 -> 0 | E13: ='Dane uczestników testu'!E9 -> 0 | F13: ='Dane uczestników testu'!F9 -> 0
A14: 10 | B14: ='Dane uczestników testu'!B10 -> 0 | C14: ='Dane uczestników testu'!C10 -> 0 | D14: ='Dane uczestników testu'!D10 -> 0 | E14: ='Dane uczestników testu'!E10 -> 0 | F14: ='Dane uczestników testu'!F10 -> 0
A15: 11 | B15: ='Dane uczestników testu'!B11 -> 0 | C15: ='Dane uczestników testu'!C11 -> 0 | D15: ='Dane uczestników testu'!D11 -> 0 | E15: ='Dane uczestników testu'!E11 -> 0 | F15: ='Dane uczestników testu'!F11 -> 0
A16: 12 | B16: ='Dane uczestników testu'!B12 -> 0 | C16: ='Dane uczestników testu'!C12 -> 0 | D16: ='Dane uczestników testu'!D12 -> 0 | E16: ='Dane uczestników testu'!E12 -> 0 | F16: ='Dane uczestników testu'!F12 -> 0
A17: 13 | B17: ='Dane uczestników testu'!B13 -> 0 | C17: ='Dane uczestników testu'!C13 -> 0 | D17: ='Dane uczestników testu'!D13 -> 0 | E17: ='Dane uczestników testu'!E13 -> 0 | F17: ='Dane uczestników testu'!F13 -> 0
... A30: 26 | B30: ='Dane uczestników testu'!B26 -> 0 | C30: ='Dane uczestników testu'!C26 -> 0 | D30: ='Dane uczestników testu'!D26 -> 0 | E30: ='Dane uczestników testu'!E26 -> 0 | F30: ='Dane uczestników testu'!F26 -> 0
